BEGIN:VCALENDAR
VERSION:2.0
PRODID:-//COCIR - ECPv6.15.20//NONSGML v1.0//EN
CALSCALE:GREGORIAN
METHOD:PUBLISH
X-WR-CALNAME:COCIR
X-ORIGINAL-URL:https://www.cocir.org
X-WR-CALDESC:Events for COCIR
REFRESH-INTERVAL;VALUE=DURATION:PT1H
X-Robots-Tag:noindex
X-PUBLISHED-TTL:PT1H
BEGIN:VTIMEZONE
TZID:UTC
BEGIN:STANDARD
TZOFFSETFROM:+0000
TZOFFSETTO:+0000
TZNAME:UTC
DTSTART:20240101T000000
END:STANDARD
END:VTIMEZONE
BEGIN:VEVENT
DTSTART;VALUE=DATE:20260318
DTEND;VALUE=DATE:20260319
DTSTAMP:20260421T221705
CREATED:20250306T161014Z
LAST-MODIFIED:20260415T083505Z
UID:7495-1773792000-1773878399@www.cocir.org
SUMMARY:COCIR Regulatory Day for Members
DESCRIPTION:
URL:https://www.cocir.org/event/cocir-regulatory-day/
LOCATION:Brussels\, Brussels\, Belgium
ATTACH;FMTTYPE=image/jpeg:https://www.cocir.org/wp-content/uploads/team-doctors-meeting-scaled.jpg
END:VEVENT
BEGIN:VEVENT
DTSTART;TZID=UTC:20250901T080000
DTEND;TZID=UTC:20250930T170000
DTSTAMP:20260421T221705
CREATED:20250307T095220Z
LAST-MODIFIED:20250507T113012Z
UID:7643-1756713600-1759251600@www.cocir.org
SUMMARY:Roundtable on Access to Innovation in Europe
DESCRIPTION:
URL:https://www.cocir.org/event/roundtable-access-innovation-europe/
LOCATION:Brussels\, Brussels\, Belgium
ATTACH;FMTTYPE=image/jpeg:https://www.cocir.org/wp-content/uploads/team-expert-doctors-sitting-desk-hospital-conference-room-having-briefing-clinic-expert-therapist-talking-with-colleagues-about-disease-treatment-development-medicine-professional-scaled.jpg
END:VEVENT
BEGIN:VEVENT
DTSTART;TZID=UTC:20250901T080000
DTEND;TZID=UTC:20250930T170000
DTSTAMP:20260421T221705
CREATED:20250306T160640Z
LAST-MODIFIED:20250507T095634Z
UID:7491-1756713600-1759251600@www.cocir.org
SUMMARY:DITTA-GMTA-IMDRF Stakeholder workshop
DESCRIPTION:
URL:https://www.cocir.org/event/ditta-gmta-imdrf-stakeholder-workshop/
LOCATION:Japan\, Japan
ATTACH;FMTTYPE=image/jpeg:https://www.cocir.org/wp-content/uploads/healthcare-workers-having-meeting-hospital-conference-room-about-symptoms-patients-analysing-x-ray-clinic-expert-therapist-talking-with-colleagues-about-disease-medicine-professional-scaled.jpg
END:VEVENT
BEGIN:VEVENT
DTSTART;TZID=UTC:20250623T080000
DTEND;TZID=UTC:20250627T170000
DTSTAMP:20260421T221705
CREATED:20250306T160603Z
LAST-MODIFIED:20250527T121650Z
UID:7489-1750665600-1751043600@www.cocir.org
SUMMARY:IHE Connectathon Week
DESCRIPTION:
URL:https://www.cocir.org/event/ihe-connectathon-week/
LOCATION:Vienna Allianz Stadion\, Gerhard-Hanappi-Platz 1\, Vienna\, 1140\, Austria
ATTACH;FMTTYPE=image/jpeg:https://www.cocir.org/wp-content/uploads/allianz_stadium_vienna.jpg
END:VEVENT
BEGIN:VEVENT
DTSTART;TZID=UTC:20250502T080000
DTEND;TZID=UTC:20250506T170000
DTSTAMP:20260421T221705
CREATED:20250306T160340Z
LAST-MODIFIED:20250408T210126Z
UID:7484-1746172800-1746550800@www.cocir.org
SUMMARY:ESTRO visit by EU delegation
DESCRIPTION:
URL:https://www.cocir.org/event/estro-eu-delegation/
ATTACH;FMTTYPE=image/jpeg:https://www.cocir.org/wp-content/uploads/doctor-giving-presentation-team-interim-doctors-scaled.jpg
END:VEVENT
BEGIN:VEVENT
DTSTART;TZID=UTC:20250501T080000
DTEND;TZID=UTC:20250531T170000
DTSTAMP:20260421T221705
CREATED:20250306T160527Z
LAST-MODIFIED:20250408T210357Z
UID:7487-1746086400-1748710800@www.cocir.org
SUMMARY:DITTA-GMTA side event along World Health Assembly
DESCRIPTION:
URL:https://www.cocir.org/event/ditta-gmta-side-event/
LOCATION:Geneva\, Geneva\, Switzerland
ATTACH;FMTTYPE=image/jpeg:https://www.cocir.org/wp-content/uploads/team-doctors-meeting-1-scaled.jpg
END:VEVENT
END:VCALENDAR